







BEGIN:VCALENDAR
VERSION:2.0
PRODID:-//Rocking Horse Eventing - ECPv6.15.10//NONSGML v1.0//EN
CALSCALE:GREGORIAN
METHOD:PUBLISH
X-ORIGINAL-URL:https://rockinghorseeventing.com
X-WR-CALDESC:Events for Rocking Horse Eventing
REFRESH-INTERVAL;VALUE=DURATION:PT1H
X-Robots-Tag:noindex
X-PUBLISHED-TTL:PT1H
BEGIN:VTIMEZONE
TZID:UTC
BEGIN:STANDARD
TZOFFSETFROM:+0000
TZOFFSETTO:+0000
TZNAME:UTC
DTSTART:20250101T000000
END:STANDARD
END:VTIMEZONE
BEGIN:VEVENT
DTSTART;VALUE=DATE:20260123
DTEND;VALUE=DATE:20260126
DTSTAMP:20260423T192839
CREATED:20250410T132043Z
LAST-MODIFIED:20250424T164223Z
UID:12952-1769126400-1769385599@rockinghorseeventing.com
SUMMARY:Rocking Horse Winter 1 2026
DESCRIPTION:
URL:https://rockinghorseeventing.com/event/rocking-horse-winter-1-2026/
LOCATION:Rocking Horse Stables\, 44200 FL-19\, Altoona\, FL\, 32702\, United States
CATEGORIES:Horse Trails
END:VEVENT
END:VCALENDAR